BEGIN:VCALENDAR
VERSION:2.0
PRODID:-//Association TILC - ECPv6.15.20//NONSGML v1.0//EN
CALSCALE:GREGORIAN
METHOD:PUBLISH
X-ORIGINAL-URL:https://www.asso-tilc.fr
X-WR-CALDESC:Évènements pour Association TILC
REFRESH-INTERVAL;VALUE=DURATION:PT1H
X-Robots-Tag:noindex
X-PUBLISHED-TTL:PT1H
BEGIN:VTIMEZONE
TZID:Europe/Paris
BEGIN:DAYLIGHT
TZOFFSETFROM:+0100
TZOFFSETTO:+0200
TZNAME:CEST
DTSTART:20240331T010000
END:DAYLIGHT
BEGIN:STANDARD
TZOFFSETFROM:+0200
TZOFFSETTO:+0100
TZNAME:CET
DTSTART:20241027T010000
END:STANDARD
BEGIN:DAYLIGHT
TZOFFSETFROM:+0100
TZOFFSETTO:+0200
TZNAME:CEST
DTSTART:20250330T010000
END:DAYLIGHT
BEGIN:STANDARD
TZOFFSETFROM:+0200
TZOFFSETTO:+0100
TZNAME:CET
DTSTART:20251026T010000
END:STANDARD
BEGIN:DAYLIGHT
TZOFFSETFROM:+0100
TZOFFSETTO:+0200
TZNAME:CEST
DTSTART:20260329T010000
END:DAYLIGHT
BEGIN:STANDARD
TZOFFSETFROM:+0200
TZOFFSETTO:+0100
TZNAME:CET
DTSTART:20261025T010000
END:STANDARD
BEGIN:DAYLIGHT
TZOFFSETFROM:+0100
TZOFFSETTO:+0200
TZNAME:CEST
DTSTART:20270328T010000
END:DAYLIGHT
BEGIN:STANDARD
TZOFFSETFROM:+0200
TZOFFSETTO:+0100
TZNAME:CET
DTSTART:20271031T010000
END:STANDARD
END:VTIMEZONE
BEGIN:VEVENT
DTSTART;TZID=Europe/Paris:20260214T143000
DTEND;TZID=Europe/Paris:20260214T170000
DTSTAMP:20260421T185843
CREATED:20260130T132335Z
LAST-MODIFIED:20260207T132419Z
UID:276-1771079400-1771088400@www.asso-tilc.fr
SUMMARY:Assemblée Générale Ordinaire 2026\, suivi de l'Assemblée Générale Extraordinaire
DESCRIPTION:L’ensemble des adhérents sont convoqués ; l’assemblée étant publique seules les personnes à jour de leur cotisation seront autorisées à participer aux votes. \n  \n  \nOrdre du jour de l’AGO\n\nRapports moraux et financiers\nPrésentation du Règlement Intérieur\nOrganisation des sections et projets 2026\nRenouvellement du CA et du bureau\nQuestions diverses\n\n  \nOrdre du jour de l’AGE\n\nPrésentation et vote des modifications statutaires (mise en conformité avec le règlement intérieur et le fonctionnement des sections)\n\nPartage d’un moment convivial avant la reprise de l’après-midi jeux de société \nhttps://www.helloasso.com/associations/tilc-tremplin-des-imaginaires-ludiques-et-culturels/adhesions/adhesion-tilc-2026 \n 
URL:https://www.asso-tilc.fr/event/assemblee-generale-ordinaire-2026-suivi-de-lassemblee-generale-extraordinaire/
LOCATION:Salle de réunion – Espace Saint-Jean\, rue du Clos Bédy\, Moisdon la Rivière\, 44520\, France
CATEGORIES:Evènement interne
ORGANIZER;CN="TILC - Tremplin des Imaginaires Ludiques et Culturels":MAILTO:contact@asso-tilc.fr
END:VEVENT
BEGIN:VEVENT
DTSTART;TZID=Europe/Paris:20260207T203000
DTEND;TZID=Europe/Paris:20260207T233000
DTSTAMP:20260421T185843
CREATED:20260207T133024Z
LAST-MODIFIED:20260207T133024Z
UID:279-1770496200-1770507000@www.asso-tilc.fr
SUMMARY:Jeu de rôles « One-shot » (à définir)
DESCRIPTION:
URL:https://www.asso-tilc.fr/event/jeu-de-roles-one-shot-a-definir-2/
LOCATION:Salle Saint-Louis – salle des acteurs\, rue de Bel Air\, Moisdon la Rivière\, 44520\, France
CATEGORIES:Evènement interne,Soirée OS - Jeux de Rôles
ATTACH;FMTTYPE=image/jpeg:https://www.asso-tilc.fr/wp-content/uploads/2025/09/livres-jeux-de-roles-des.jpg
ORGANIZER;CN="TILC - Tremplin des Imaginaires Ludiques et Culturels":MAILTO:contact@asso-tilc.fr
END:VEVENT
BEGIN:VEVENT
DTSTART;TZID=Europe/Paris:20251220T143000
DTEND;TZID=Europe/Paris:20251221T010000
DTSTAMP:20260421T185843
CREATED:20251110T091819Z
LAST-MODIFIED:20251110T094100Z
UID:256-1766241000-1766278800@www.asso-tilc.fr
SUMMARY:Apéro de Yule
DESCRIPTION:Depuis quelques années déjà le TILC vous propose une journée de convivialité pour clôturer son année. Il nous plaît de la désigner sous le nom d’ « Apéro de Yule » pour une excellente raison : nous vous invitons à partager une journée de jeux et un apéro-dinatoire participatif avant une soirée JdR. \nComment ça se passe ?\nVous venez\, à partir de 14h30\, pour une après-midi jeux de société. En fonction des participants il pourra même y avoir quelques parties de découverte du jeu de rôles. Comme pour le reste de la journée la participation est totalement gratuite et ouverte à tous\, adhérent ou non. \nPuis vers 18h30 – 19h\, nous installons les tables en banquet pour que chacun des présents puisse s’installer et partager ce qu’il aura ramené (en quantité raisonnable svp\, pensez à nos winter bodies ….). \nEt vers 20h30 nous démarrons les parties de jeux de rôles pour celles et ceux qui le souhaitent. \nMais sinon\, en vrai ?\nBah vous faîtes comme vous avez envie : venez faire du jeu de société\, repartez\, revenez pour le JdR. Ou alors ne venez que pour l’apéro. Ou que pour le JdR. C’est totalement à votre convenance. \nEt il faut réservez ?\nNon. Comme le repas sera contributif chacun amène de quoi grignoter pour l’équivalent du nombre de participants concernés (vous êtes trois\, vous amener pour trois) et on partage autour de la table. En sachant que tous les ans nous finissons comme des Hobbits repus …
URL:https://www.asso-tilc.fr/event/apero-de-yule/
LOCATION:Salle de réunion – Espace Saint-Jean\, rue du Clos Bédy\, Moisdon la Rivière\, 44520\, France
CATEGORIES:Evènement externe,Evènement interne
ATTACH;FMTTYPE=image/jpeg:https://www.asso-tilc.fr/wp-content/uploads/2025/11/Yule-2025-copie.jpg
ORGANIZER;CN="TILC - Tremplin des Imaginaires Ludiques et Culturels":MAILTO:contact@asso-tilc.fr
END:VEVENT
BEGIN:VEVENT
DTSTART;TZID=Europe/Paris:20251115T000000
DTEND;TZID=Europe/Paris:20251116T000000
DTSTAMP:20260421T185843
CREATED:20251112T085253Z
LAST-MODIFIED:20251112T085331Z
UID:261-1763164800-1763251200@www.asso-tilc.fr
SUMMARY:Art to Play 2025
DESCRIPTION:Cette année encore nous avons le plaisir d’animer des tables de jeux de rôles à la Art to Play de Nantes ! \nChaque année c’est un plaisir de vous y retrouver pour le format classique de nos conventions : des tables de 4 à 5 joueurs sur des parties d’une heure environ\, tant pour l’initiation et la découverte que pour un bon moment avec les rôlistes avertis. \nEt comme d’habitude les parties sont toujours gratuites et les inscriptions se font sur place. \nAttention – un petit changement\nEt pas des moindres : la convention s’agrandissant vous ne nous trouverez pas dans le Grand Palais\, mais dans le Hall XXL !! Nous sommes bien présents tout le week-end\, mais après 4 années à l’étage en surplomb des dédicaces nous sommes de retour sur le sol et vous nous trouverez facilement : \n  \n \nLes parties proposées\n\nUn hôte exécrable – Donjons et Dragons 5ème édition\nUne dernière cuvée – La Forêt\nL’épreuve du Mont Fujikasane – Anime was a Mistake\nLe temps presse – Donjon de poche\nLe Labyrinthe de Saroumane – Le Seigneur des Anneaux\nLes Maraudeurs – Harry Potter\nDétournement à Fond – Cyberpunk 2077\nMusic Demon Hunters – Anime was a mistake\nLe mystère de Prima Hyadum – Borderlands\n\nComment vous inscrire à une table ?\nSur place comme chaque année : rendez-vous à l’accueil de notre stand où les bénévoles vous indiqueront les parties et places disponibles\, ainsi que les créneaux correspondants. De manière habituelle nous vous invitons à vous inscrire avant 14h le samedi\, et 12h le dimanche si vous souhaitez disposer d’une place. \nBien évidemment toutes nos parties sont gratuites et ouvertes aux joueurs chevronnés comme débutants. \nNous ne prendrons aucune inscription à l’avance de la Art to Play ! \nDonc pas la peine de nous harceler de messages à l’avance : toutes les inscriptions seront prises sur place. Premiers arrivés\, premiers servis.
URL:https://www.asso-tilc.fr/event/art-to-play-2025/
CATEGORIES:Convention,Evènement externe
ATTACH;FMTTYPE=image/avif:https://www.asso-tilc.fr/wp-content/uploads/2025/11/A2P25-WB-1080x1350px.avif
END:VEVENT
BEGIN:VEVENT
DTSTART;VALUE=DATE:20250927
DTEND;VALUE=DATE:20250929
DTSTAMP:20260421T185843
CREATED:20250910T144655Z
LAST-MODIFIED:20250910T144820Z
UID:81-1758931200-1759103999@www.asso-tilc.fr
SUMMARY:Convention Tolkien
DESCRIPTION:
URL:https://www.asso-tilc.fr/event/convention-tolkien/
LOCATION:Plestin les grèves\, 6 passage Yvonne Le Fustec\, Plestin les grèves\, 22310\, France
CATEGORIES:Evènement externe
ATTACH;FMTTYPE=image/jpeg:https://www.asso-tilc.fr/wp-content/uploads/2025/09/stlu-2025.jpg
ORGANIZER;CN="SLTU - Sur les Terres de l'Unique":MAILTO:surlesterresdelunique@gmail.com
END:VEVENT
BEGIN:VEVENT
DTSTART;TZID=Europe/Paris:20250920T204000
DTEND;TZID=Europe/Paris:20250921T010000
DTSTAMP:20260421T185843
CREATED:20250910T144144Z
LAST-MODIFIED:20250910T151837Z
UID:77-1758400800-1758416400@www.asso-tilc.fr
SUMMARY:Jeu de rôles « One-shot » (à définir)
DESCRIPTION:
URL:https://www.asso-tilc.fr/event/jeu-de-roles-one-shot-a-definir/
LOCATION:Salle Saint-Louis – Hall\, rue de Bel Air\, Moisdon la Rivière\, 44520\, France
CATEGORIES:Soirée OS - Jeux de Rôles
ATTACH;FMTTYPE=image/jpeg:https://www.asso-tilc.fr/wp-content/uploads/2025/09/livres-jeux-de-roles-des.jpg
ORGANIZER;CN="TILC - Tremplin des Imaginaires Ludiques et Culturels":MAILTO:contact@asso-tilc.fr
END:VEVENT
BEGIN:VEVENT
DTSTART;TZID=Europe/Paris:20250920T080000
DTEND;TZID=Europe/Paris:20250921T170000
DTSTAMP:20260421T185843
CREATED:20250910T144319Z
LAST-MODIFIED:20250910T151624Z
UID:79-1758355200-1758474000@www.asso-tilc.fr
SUMMARY:Festival Cidre & Dragons
DESCRIPTION:
URL:https://www.asso-tilc.fr/event/festival-cidre-dragons/
CATEGORIES:Evènement externe
ATTACH;FMTTYPE=image/jpeg:https://www.asso-tilc.fr/wp-content/uploads/2025/09/images.jpg
END:VEVENT
BEGIN:VEVENT
DTSTART;TZID=Europe/Paris:20250919T204000
DTEND;TZID=Europe/Paris:20250920T010000
DTSTAMP:20260421T185843
CREATED:20250910T143957Z
LAST-MODIFIED:20250910T144033Z
UID:72-1758314400-1758330000@www.asso-tilc.fr
SUMMARY:Jeu de rôles "One-shot" (à définir)
DESCRIPTION:
URL:https://www.asso-tilc.fr/event/jeu-de-roles-a-definir/
LOCATION:Salle Saint-Louis – Hall\, rue de Bel Air\, Moisdon la Rivière\, 44520\, France
CATEGORIES:Soirée OS - Jeux de Rôles
ATTACH;FMTTYPE=image/jpeg:https://www.asso-tilc.fr/wp-content/uploads/2025/09/livres-jeux-de-roles-des.jpg
ORGANIZER;CN="TILC - Tremplin des Imaginaires Ludiques et Culturels":MAILTO:contact@asso-tilc.fr
END:VEVENT
BEGIN:VEVENT
DTSTART;TZID=Europe/Paris:20250919T203000
DTEND;TZID=Europe/Paris:20250920T010000
DTSTAMP:20260421T185843
CREATED:20250910T151502Z
LAST-MODIFIED:20250910T151502Z
UID:92-1758313800-1758330000@www.asso-tilc.fr
SUMMARY:Jeu de société - Skyrim
DESCRIPTION:
URL:https://www.asso-tilc.fr/event/jeu-de-societe-skyrim/
LOCATION:Salle des associations\, 11 rue de l'abbé Orain\, Derval\, 44590\, France
CATEGORIES:Soirée campagne - Jeux de Rôles
ATTACH;FMTTYPE=image/jpeg:https://www.asso-tilc.fr/wp-content/uploads/2025/09/93774_grande.jpg
END:VEVENT
BEGIN:VEVENT
DTSTART;TZID=Europe/Paris:20250913T204000
DTEND;TZID=Europe/Paris:20250914T010000
DTSTAMP:20260421T185843
CREATED:20250910T143043Z
LAST-MODIFIED:20250910T143743Z
UID:67-1757796000-1757811600@www.asso-tilc.fr
SUMMARY:Knight
DESCRIPTION:
URL:https://www.asso-tilc.fr/event/knight/
LOCATION:Salle Saint-Louis – salle des acteurs\, rue de Bel Air\, Moisdon la Rivière\, 44520\, France
CATEGORIES:Soirée campagne - Jeux de Rôles
ATTACH;FMTTYPE=image/png:https://www.asso-tilc.fr/wp-content/uploads/2025/09/knight.png
ORGANIZER;CN="TILC - Tremplin des Imaginaires Ludiques et Culturels":MAILTO:contact@asso-tilc.fr
END:VEVENT
BEGIN:VEVENT
DTSTART;TZID=Europe/Paris:20250912T204500
DTEND;TZID=Europe/Paris:20250913T010000
DTSTAMP:20260421T185843
CREATED:20250902T170537Z
LAST-MODIFIED:20250910T143640Z
UID:29-1757709900-1757725200@www.asso-tilc.fr
SUMMARY:Elestria
DESCRIPTION:Elestria est un jeu de rôles dans un univers fantastique où vous utiliserez les éléments pour parvenir à vos fins. \nVous pouvez en savoir plus sur Elestria.fr
URL:https://www.asso-tilc.fr/event/soiree-jdr-elestria/
LOCATION:Salle Saint-Louis – Hall\, rue de Bel Air\, Moisdon la Rivière\, 44520\, France
CATEGORIES:Soirée campagne - Jeux de Rôles
ATTACH;FMTTYPE=image/jpeg:https://www.asso-tilc.fr/wp-content/uploads/2025/09/841_axk-6wxccl7ezsqb_4ae-1mmPtqk.jpg
ORGANIZER;CN="TILC - Tremplin des Imaginaires Ludiques et Culturels":MAILTO:contact@asso-tilc.fr
END:VEVENT
BEGIN:VEVENT
DTSTART;TZID=Europe/Paris:20250912T203000
DTEND;TZID=Europe/Paris:20250913T010000
DTSTAMP:20260421T185843
CREATED:20250910T151312Z
LAST-MODIFIED:20250910T151312Z
UID:89-1757709000-1757725200@www.asso-tilc.fr
SUMMARY:Fabula Ultima
DESCRIPTION:Fabula Ultima est un jeu de rôle sur table inspiré des RPG sur console de style japonais\, ou JRPG. Dans Fabula Ultima\, vous et vos amis raconterez des histoires épiques de héros en herbe et de méchants redoutables\, dans un univers fantastique débordant de magie\, de lieux merveilleux et de monstres bizarres et uniques !
URL:https://www.asso-tilc.fr/event/fabula-ultima/
LOCATION:Salle des associations\, 11 rue de l'abbé Orain\, Derval\, 44590\, France
CATEGORIES:Soirée OS - Jeux de Rôles
ATTACH;FMTTYPE=image/jpeg:https://www.asso-tilc.fr/wp-content/uploads/2025/09/848_am7Lcf_1kcTrzn6i_Ptn7wz-Th2j.jpg
END:VEVENT
BEGIN:VEVENT
DTSTART;TZID=Europe/Paris:20250906T204500
DTEND;TZID=Europe/Paris:20250907T010000
DTSTAMP:20260421T185843
CREATED:20250902T161241Z
LAST-MODIFIED:20250910T143659Z
UID:27-1757191500-1757206800@www.asso-tilc.fr
SUMMARY:Soirée JdR
DESCRIPTION:Soirée Jeux de Rôles – thème à venir – en format one shot\, c’est à dire partie complète dans la soirée : que vous soyez joueur régulier\, novice ou juste pour passer une bonne soirée avec nos MJ et lancer des dés n’hésitez pas à participer. \nToutes nos soirées jeux sont gratuites et sans obligation d’adhésion\, mais reste réservées aux joueurs de plus de 16 ans
URL:https://www.asso-tilc.fr/event/soiree-jdr/
LOCATION:Salle de réunion – Espace Saint-Jean\, rue du Clos Bédy\, Moisdon la Rivière\, 44520\, France
CATEGORIES:Soirée OS - Jeux de Rôles
ORGANIZER;CN="TILC - Tremplin des Imaginaires Ludiques et Culturels":MAILTO:contact@asso-tilc.fr
END:VEVENT
END:VCALENDAR